BEGIN:VCALENDAR
VERSION:2.0
PRODID:-//¿Bailas? - ECPv6.2.9//NONSGML v1.0//EN
CALSCALE:GREGORIAN
METHOD:PUBLISH
X-WR-CALNAME:¿Bailas?
X-ORIGINAL-URL:https://chetango.de
X-WR-CALDESC:Veranstaltungen für ¿Bailas?
REFRESH-INTERVAL;VALUE=DURATION:PT1H
X-Robots-Tag:noindex
X-PUBLISHED-TTL:PT1H
BEGIN:VTIMEZONE
TZID:Europe/Berlin
BEGIN:DAYLIGHT
TZOFFSETFROM:+0100
TZOFFSETTO:+0200
TZNAME:CEST
DTSTART:20250330T010000
END:DAYLIGHT
BEGIN:STANDARD
TZOFFSETFROM:+0200
TZOFFSETTO:+0100
TZNAME:CET
DTSTART:20251026T010000
END:STANDARD
END:VTIMEZONE
BEGIN:VEVENT
DTSTART;TZID=Europe/Berlin:20250908T193000
DTEND;TZID=Europe/Berlin:20250908T230000
DTSTAMP:20260421T204121
CREATED:20250731T124918Z
LAST-MODIFIED:20250731T124918Z
UID:5079-1757359800-1757372400@chetango.de
SUMMARY:la practica MaS - la practica del papa
DESCRIPTION:Von 19:30 – 23:00 freies Üben zu traditioneller Musik; natürlich mit buena onda\, Matecito\, Pizza\, Argentinischen Segen uuuuuund TANGO!!!!\nWie immer natürlich al la gorra!
URL:https://chetango.de/event/la-practica-mas-la-practica-del-papa-15
LOCATION:Pfarrzentrum St. Mang\, Andreasstraße\, Regensburg\, 93059\, Deutschland
CATEGORIES:Practica
ATTACH;FMTTYPE=image/png:https://chetango.de/wp-content/uploads/2023/05/IMG_8166-e1689860177201.png
END:VEVENT
BEGIN:VEVENT
DTSTART;TZID=Europe/Berlin:20250921T160000
DTEND;TZID=Europe/Berlin:20250921T170000
DTSTAMP:20260421T204121
CREATED:20250731T130905Z
LAST-MODIFIED:20250731T130905Z
UID:5094-1758470400-1758474000@chetango.de
SUMMARY:Open Sunday Tango Class
DESCRIPTION:Egal ob Du gerade voll am Anfang bist\, schon viele Jahre tanzt und nach frischer Inspiration suchst\, die Rolle wechseln willst\, mit Partner oder Partnerin lieber tanzen magst\, jung oder alt bist… hier kannst Du eine Stunde vor dem Cafetín mit Spaß am Sonntag Nachmittag etwas an Deinem Tango feilen.
URL:https://chetango.de/event/open-sunday-tango-class
LOCATION:Pfarrzentrum St. Mang\, Andreasstraße\, Regensburg\, 93059\, Deutschland
CATEGORIES:Kurs,Seminar
ATTACH;FMTTYPE=image/png:https://chetango.de/wp-content/uploads/2023/12/Kopie-von-Back-to-School.png
END:VEVENT
BEGIN:VEVENT
DTSTART;TZID=Europe/Berlin:20250921T170000
DTEND;TZID=Europe/Berlin:20250921T210000
DTSTAMP:20260421T204121
CREATED:20250731T125819Z
LAST-MODIFIED:20250731T125819Z
UID:5086-1758474000-1758488400@chetango.de
SUMMARY:el Cafetin de Buenos Aires
DESCRIPTION:Dein Tango-Kaffeeklatsch am Sonntag! \n  \nAn einem Sonntag im Monat öffnet das Cafetín de Buenos Aires mit traditioneller Musik\, selbstgemachten Kuchen und Kaffee! \nLass Dein Wochenende gemütlich mit Tango ausklingen! \nNos vemos?
URL:https://chetango.de/event/el-cafetin-de-buenos-aires-17
LOCATION:Pfarrzentrum St. Mang\, Andreasstraße\, Regensburg\, 93059\, Deutschland
CATEGORIES:Milonga
ATTACH;FMTTYPE=image/png:https://chetango.de/wp-content/uploads/2023/07/elCafetinblanco-e1689860000456.png
END:VEVENT
END:VCALENDAR