BEGIN:VCALENDAR
VERSION:2.0
PRODID:-//¿Bailas? - ECPv6.2.9//NONSGML v1.0//EN
CALSCALE:GREGORIAN
METHOD:PUBLISH
X-WR-CALNAME:¿Bailas?
X-ORIGINAL-URL:https://chetango.de
X-WR-CALDESC:Veranstaltungen für ¿Bailas?
REFRESH-INTERVAL;VALUE=DURATION:PT1H
X-Robots-Tag:noindex
X-PUBLISHED-TTL:PT1H
BEGIN:VTIMEZONE
TZID:Europe/Berlin
BEGIN:DAYLIGHT
TZOFFSETFROM:+0100
TZOFFSETTO:+0200
TZNAME:CEST
DTSTART:20230326T010000
END:DAYLIGHT
BEGIN:STANDARD
TZOFFSETFROM:+0200
TZOFFSETTO:+0100
TZNAME:CET
DTSTART:20231029T010000
END:STANDARD
END:VTIMEZONE
BEGIN:VEVENT
DTSTART;TZID=Europe/Berlin:20231027T190000
DTEND;TZID=Europe/Berlin:20231027T203000
DTSTAMP:20260425T055703
CREATED:20230824T161838Z
LAST-MODIFIED:20230922T094846Z
UID:1847-1698433200-1698438600@chetango.de
SUMMARY:TMR |WS 1: Rhythmically navigating the dancefloor
DESCRIPTION:Richtungs- und Rhythmuswechsel in Abhängigkeit des Tanzflusses Die Infos für das gesamte Tangomeeting Regensburg findest Du unter “News“ und hier gehts zur Workshopregistrierung: 						\n				\n					\n		\n							\n		\n				\n						\n					\n			\n								\n				\n					\n			\n						\n						Register here
URL:https://chetango.de/event/ws-1-rhythmically-navigating-the-dancefloor
LOCATION:ChanDao Akademie\, Donaustaufer str. 46b\, Regensburg
CATEGORIES:Kurs,Seminar,Tangoweekend
ATTACH;FMTTYPE=image/png:https://chetango.de/wp-content/uploads/2023/08/E3A9D708-E27A-49DD-AFA5-49C28C145B7E-2.png
END:VEVENT
END:VCALENDAR