BEGIN:VCALENDAR
VERSION:2.0
PRODID:-//¿Bailas? - ECPv6.2.9//NONSGML v1.0//EN
CALSCALE:GREGORIAN
METHOD:PUBLISH
X-WR-CALNAME:¿Bailas?
X-ORIGINAL-URL:https://chetango.de
X-WR-CALDESC:Veranstaltungen für ¿Bailas?
REFRESH-INTERVAL;VALUE=DURATION:PT1H
X-Robots-Tag:noindex
X-PUBLISHED-TTL:PT1H
BEGIN:VTIMEZONE
TZID:Europe/Berlin
BEGIN:DAYLIGHT
TZOFFSETFROM:+0100
TZOFFSETTO:+0200
TZNAME:CEST
DTSTART:20240331T010000
END:DAYLIGHT
BEGIN:STANDARD
TZOFFSETFROM:+0200
TZOFFSETTO:+0100
TZNAME:CET
DTSTART:20241027T010000
END:STANDARD
END:VTIMEZONE
BEGIN:VEVENT
DTSTART;TZID=Europe/Berlin:20240711T200000
DTEND;TZID=Europe/Berlin:20240711T220000
DTSTAMP:20260421T130219
CREATED:20240423T100345Z
LAST-MODIFIED:20240423T100450Z
UID:2579-1720728000-1720735200@chetango.de
SUMMARY:UNITango
DESCRIPTION:Es ist Sommersemester und damit auch Uni-Tangokurs! \nAls Studi oder Mitarbeiter der Uni Regensburg kannst Du im Rahmen des Hochschulsports jeden Donnerstag im Semester Tango tanzen! Du hast Lust auf good vibes\, tanzen\, üben\, dazulernen und neue Leute treffen? Dann Sportausweis für das neue Semester besorgen und komm einfach vorbei! Alle Infos dazu unter Homepage des Hochschulsports! \n…und……Schon gewußt? \nDu willst gerne als Externe(r) ohne Univerbindung bei uns mitmachen? Dies ist ab sofort über den Förderverein des Hochschulsports der Uni Regensburg möglich.
URL:https://chetango.de/event/unitango-10
LOCATION:Uni Sportzentrum\, Am Biopark 12\, Regensburg\, 93053\, Deutschland
CATEGORIES:fortlaufender Kurs,Kurs
ATTACH;FMTTYPE=image/png:https://chetango.de/wp-content/uploads/2024/04/8CE95040-FEB0-44D8-A826-B2306B1A1F2C.png
END:VEVENT
END:VCALENDAR