BEGIN:VCALENDAR
VERSION:2.0
PRODID:-//¿Bailas? - ECPv6.2.9//NONSGML v1.0//EN
CALSCALE:GREGORIAN
METHOD:PUBLISH
X-WR-CALNAME:¿Bailas?
X-ORIGINAL-URL:https://chetango.de
X-WR-CALDESC:Veranstaltungen für ¿Bailas?
REFRESH-INTERVAL;VALUE=DURATION:PT1H
X-Robots-Tag:noindex
X-PUBLISHED-TTL:PT1H
BEGIN:VTIMEZONE
TZID:Europe/Berlin
BEGIN:DAYLIGHT
TZOFFSETFROM:+0100
TZOFFSETTO:+0200
TZNAME:CEST
DTSTART:20240331T010000
END:DAYLIGHT
BEGIN:STANDARD
TZOFFSETFROM:+0200
TZOFFSETTO:+0100
TZNAME:CET
DTSTART:20241027T010000
END:STANDARD
END:VTIMEZONE
BEGIN:VEVENT
DTSTART;TZID=Europe/Berlin:20241026T130000
DTEND;TZID=Europe/Berlin:20241026T143000
DTSTAMP:20260421T120137
CREATED:20240904T183211Z
LAST-MODIFIED:20240904T183211Z
UID:3094-1729947600-1729953000@chetango.de
SUMMARY:TMR24-WS2: Rotation and circularity for more freedom in the ronda
DESCRIPTION:Interne und externe Rotation – für mehr Freiheit innerhalb der Ronda \nDie Infos für das gesamte Tangomeeting Regensburg findest Du unter “News” \nund hier gehts zur Workshopregistrierung:
URL:https://chetango.de/event/tmr24-ws2-rotation-and-circularity-for-more-freedom-in-the-ronda
LOCATION:ChanDao Akademie\, Donaustaufer str. 46b\, Regensburg
CATEGORIES:Kurs,Seminar,Tangoweekend
ATTACH;FMTTYPE=image/png:https://chetango.de/wp-content/uploads/2024/09/Kopie-von-Kopie-von-Pfirsichfarben-Muttertag-Frau-Influencer-Facebook-Beitrag-2.png
END:VEVENT
END:VCALENDAR