BEGIN:VCALENDAR
VERSION:2.0
PRODID:-//¿Bailas? - ECPv6.2.9//NONSGML v1.0//EN
CALSCALE:GREGORIAN
METHOD:PUBLISH
X-WR-CALNAME:¿Bailas?
X-ORIGINAL-URL:https://chetango.de
X-WR-CALDESC:Veranstaltungen für ¿Bailas?
REFRESH-INTERVAL;VALUE=DURATION:PT1H
X-Robots-Tag:noindex
X-PUBLISHED-TTL:PT1H
BEGIN:VTIMEZONE
TZID:Europe/Berlin
BEGIN:DAYLIGHT
TZOFFSETFROM:+0100
TZOFFSETTO:+0200
TZNAME:CEST
DTSTART:20230326T010000
END:DAYLIGHT
BEGIN:STANDARD
TZOFFSETFROM:+0200
TZOFFSETTO:+0100
TZNAME:CET
DTSTART:20231029T010000
END:STANDARD
END:VTIMEZONE
BEGIN:VEVENT
DTSTART;TZID=Europe/Berlin:20231029T150000
DTEND;TZID=Europe/Berlin:20231029T163000
DTSTAMP:20260425T124653
CREATED:20230824T165417Z
LAST-MODIFIED:20230922T095506Z
UID:1869-1698591600-1698597000@chetango.de
SUMMARY:TMR |WS 5: Melodic variations folllowing the bandoneon
DESCRIPTION:Melodische Lösungen  – tanzen wie das Bandoneon atmet Die Infos für das gesamte Tangomeeting Regensburg findest Du unter “News”  und hier gehts zur Workshopregistrierung:   						\n				\n					\n		\n							\n		\n				\n						\n					\n			\n								\n				\n					\n			\n						\n						Register here
URL:https://chetango.de/event/tmr-ws-5-melodic-variations-folllowing-the-bandoneon-melodische-loesungen
LOCATION:ChanDao Akademie\, Donaustaufer str. 46b\, Regensburg
CATEGORIES:Kurs,Seminar,Tangoweekend
ATTACH;FMTTYPE=image/png:https://chetango.de/wp-content/uploads/2023/08/Kopie-von-Pfirsichfarben-Muttertag-Frau-Influencer-Facebook-Beitrag.png
END:VEVENT
END:VCALENDAR