BEGIN:VCALENDAR
VERSION:2.0
PRODID:-//¿Bailas? - ECPv6.2.9//NONSGML v1.0//EN
CALSCALE:GREGORIAN
METHOD:PUBLISH
X-WR-CALNAME:¿Bailas?
X-ORIGINAL-URL:https://chetango.de
X-WR-CALDESC:Veranstaltungen für ¿Bailas?
REFRESH-INTERVAL;VALUE=DURATION:PT1H
X-Robots-Tag:noindex
X-PUBLISHED-TTL:PT1H
BEGIN:VTIMEZONE
TZID:Europe/Berlin
BEGIN:DAYLIGHT
TZOFFSETFROM:+0100
TZOFFSETTO:+0200
TZNAME:CEST
DTSTART:20230326T010000
END:DAYLIGHT
BEGIN:STANDARD
TZOFFSETFROM:+0200
TZOFFSETTO:+0100
TZNAME:CET
DTSTART:20231029T010000
END:STANDARD
END:VTIMEZONE
BEGIN:VEVENT
DTSTART;TZID=Europe/Berlin:20231029T130000
DTEND;TZID=Europe/Berlin:20231029T143000
DTSTAMP:20260425T123034
CREATED:20230824T165058Z
LAST-MODIFIED:20230922T095419Z
UID:1867-1698584400-1698589800@chetango.de
SUMMARY:TMR |WS 4: Adapting movements to two contrasting orchestras
DESCRIPTION:Veränderung der Bewegung bei zwei kontrastreich unterschiedlichen Orchestern Die Infos für das gesamte Tangomeeting Regensburg findest Du unter “News“ und hier gehts zur Workshopregistrierung: 						\n				\n					\n		\n							\n		\n				\n						\n					\n			\n								\n				\n					\n			\n						\n						Register here
URL:https://chetango.de/event/tmr-ws-4-adapting-movements-to-two-contrasting-orchestras
LOCATION:ChanDao Akademie\, Donaustaufer str. 46b\, Regensburg
CATEGORIES:Kurs,Seminar,Tangoweekend
ATTACH;FMTTYPE=image/png:https://chetango.de/wp-content/uploads/2023/08/9591D477-7818-4BB0-98A7-C17B4D36E317.png
END:VEVENT
END:VCALENDAR