BEGIN:VCALENDAR
VERSION:2.0
PRODID:-//¿Bailas? - ECPv6.2.9//NONSGML v1.0//EN
CALSCALE:GREGORIAN
METHOD:PUBLISH
X-WR-CALNAME:¿Bailas?
X-ORIGINAL-URL:https://chetango.de
X-WR-CALDESC:Veranstaltungen für ¿Bailas?
REFRESH-INTERVAL;VALUE=DURATION:PT1H
X-Robots-Tag:noindex
X-PUBLISHED-TTL:PT1H
BEGIN:VTIMEZONE
TZID:Europe/Berlin
BEGIN:DAYLIGHT
TZOFFSETFROM:+0100
TZOFFSETTO:+0200
TZNAME:CEST
DTSTART:20250330T010000
END:DAYLIGHT
BEGIN:STANDARD
TZOFFSETFROM:+0200
TZOFFSETTO:+0100
TZNAME:CET
DTSTART:20251026T010000
END:STANDARD
END:VTIMEZONE
BEGIN:VEVENT
DTSTART;TZID=Europe/Berlin:20250621T130000
DTEND;TZID=Europe/Berlin:20250622T190000
DTSTAMP:20260421T103359
CREATED:20250428T133644Z
LAST-MODIFIED:20250428T152014Z
UID:4481-1750510800-1750618800@chetango.de
SUMMARY:Tangomeeting 2025
DESCRIPTION:Der legendäre Maestro Andrés “Tanguito” Céjas kommt zurück nach Regensburg und hat 5 Workshops für Tango de Salon dabei!\n \nMit über 3 Jahrzehnten Erfahrung im Unterrichten von Tango Argentino weltweit – vom Anfänger bis zum Profi – bringt “Tanguito” eine Fülle von Wissen und Leidenschaft auf die Tanzfläche. Er ist regelmäßiger Juror bei der Tango-Weltmeisterschaft in Buenos Aires\, leitet dort wöchentlich eine sehr populäre Milonga und blickt auf eine große Karriere an der Seite seiner Frau Genoveva Fernandez zurück. Er tritt in den renommiertesten Milongas von Buenos Aires auf und unterrichtet dreimal pro Woche im Herzen von Boedo – einem Viertel\, in dem der Tango an jeder Ecke zu Hause ist. Viele heute weltbekannte Tänzer der jüngeren Generation haben von ihm gelernt! Also sei dabei! \n\nZur Workshopübersicht geht es HIER!\nAlle Kurse finden im Candisviertel von Regensburg statt (Donaustauferstraße). Die genaue Adresse wird bei Anmeldung mitgeteilt. \n  \nPreise für das Tangoseminar mit Andrés Cejas pro Person: \n35€/Workshop a 1\,5 h \n150€ gesamtes Seminar mit allen 5 Workshops + Practica (5 x 90min + 60 min) \n120€ Studentenermäßigung (20% Discount) \nDie Practica ist NUR für Workshopteilnehmer und gratis! \nRegistrierung bitte paarweise –  falls Ihr keinen Partner habt versuche ich zu vermitteln\, kann aber leider nichts versprechen… \nHier gehts zur Registrierung:
URL:https://chetango.de/event/tangomeeting-2025
CATEGORIES:Blockseminar,Kurs,Seminar,Tangoweekend
ATTACH;FMTTYPE=image/png:https://chetango.de/wp-content/uploads/2025/04/Kopie-von-Copy-of-Black-and-Brown-Church-Conference-Flyer-Instagram-Post-Quadratisch.png.png
END:VEVENT
END:VCALENDAR