BEGIN:VCALENDAR
VERSION:2.0
PRODID:-//¿Bailas? - ECPv6.2.9//NONSGML v1.0//EN
CALSCALE:GREGORIAN
METHOD:PUBLISH
X-WR-CALNAME:¿Bailas?
X-ORIGINAL-URL:https://chetango.de
X-WR-CALDESC:Veranstaltungen für ¿Bailas?
REFRESH-INTERVAL;VALUE=DURATION:PT1H
X-Robots-Tag:noindex
X-PUBLISHED-TTL:PT1H
BEGIN:VTIMEZONE
TZID:Europe/Berlin
BEGIN:DAYLIGHT
TZOFFSETFROM:+0100
TZOFFSETTO:+0200
TZNAME:CEST
DTSTART:20230326T010000
END:DAYLIGHT
BEGIN:STANDARD
TZOFFSETFROM:+0200
TZOFFSETTO:+0100
TZNAME:CET
DTSTART:20231029T010000
END:STANDARD
END:VTIMEZONE
BEGIN:VEVENT
DTSTART;VALUE=DATE:20231027
DTEND;VALUE=DATE:20231030
DTSTAMP:20260425T043512
CREATED:20230720T085338Z
LAST-MODIFIED:20230922T105049Z
UID:1579-1698364800-1698623999@chetango.de
SUMMARY:Tango Meeting Regensburg (TMR)
DESCRIPTION:Ein ganzes Wochenende lang lernen\, üben\, tanzen und Freunde treffen! Eine Legende des Tango Argentino\, Maestro vieler Maestros\, Jurymitglied der Tango-WM in Buenos Aires und international bekannter Lehrer und Tänzer Andrés Tanguito Céjas besucht Regensburg. Besuche das 3 tägige Intensivseminar “Tango de salon” mit Andrés Céjas und übe\, tanze und feiere mit Tangotänzer aus Regensburg und der Welt an diesem Wochenende in Regensburg. Anmeldung für die Kurse erforderlich. Practica am Samstag und Milonga am Sonntag öffentlich und ohne Anmeldung möglich. Mehr Infos findet Ihr hier!
URL:https://chetango.de/event/tango-meeting-regensburg
CATEGORIES:Blockseminar,Kurs,Tangoweekend
ATTACH;FMTTYPE=image/png:https://chetango.de/wp-content/uploads/2023/07/Tangomeeting-e1689860393889.png
END:VEVENT
END:VCALENDAR