BEGIN:VCALENDAR
VERSION:2.0
PRODID:-//¿Bailas? - ECPv6.2.9//NONSGML v1.0//EN
CALSCALE:GREGORIAN
METHOD:PUBLISH
X-WR-CALNAME:¿Bailas?
X-ORIGINAL-URL:https://chetango.de
X-WR-CALDESC:Veranstaltungen für ¿Bailas?
REFRESH-INTERVAL;VALUE=DURATION:PT1H
X-Robots-Tag:noindex
X-PUBLISHED-TTL:PT1H
BEGIN:VTIMEZONE
TZID:Europe/Berlin
BEGIN:DAYLIGHT
TZOFFSETFROM:+0100
TZOFFSETTO:+0200
TZNAME:CEST
DTSTART:20240331T010000
END:DAYLIGHT
BEGIN:STANDARD
TZOFFSETFROM:+0200
TZOFFSETTO:+0100
TZNAME:CET
DTSTART:20241027T010000
END:STANDARD
END:VTIMEZONE
BEGIN:VEVENT
DTSTART;VALUE=DATE:20241025
DTEND;VALUE=DATE:20241028
DTSTAMP:20260421T114711
CREATED:20240904T184158Z
LAST-MODIFIED:20240904T184340Z
UID:3098-1729814400-1730073599@chetango.de
SUMMARY:Tango Meeting Regensburg 2024
DESCRIPTION:Ein ganzes Wochenende lang lernen\, üben\, tanzen und Freunde treffen! \nEine Legende des Tango Argentino\, Maestro vieler Maestros\, Jurymitglied der Tango-WM in Buenos Aires und international bekannter Lehrer und Tänzer Andrés Tanguito Céjas besucht Regensburg. \nBesuche das 3 tägige Intensivseminar “Tango de salon” mit Andrés Céjas und übe\, tanze und feiere mit Tangotänzer aus Regensburg und der Welt an diesem Wochenende in Regensburg. \nAnmeldung für die Kurse erforderlich. Practica am Samstag und Milonga am Sonntag öffentlich und ohne Anmeldung möglich. \nMehr Infos findet Ihr hier!
URL:https://chetango.de/event/tango-meeting-regensburg-2024
CATEGORIES:Kurs,Milonga,Practica,Seminar,Tangoweekend
ATTACH;FMTTYPE=image/png:https://chetango.de/wp-content/uploads/2024/09/Copy-of-Black-and-Brown-Church-Conference-Flyer-Instagram-Post-Quadratisch.png.png
END:VEVENT
END:VCALENDAR