BEGIN:VCALENDAR
VERSION:2.0
PRODID:-//¿Bailas? - ECPv6.2.9//NONSGML v1.0//EN
CALSCALE:GREGORIAN
METHOD:PUBLISH
X-WR-CALNAME:¿Bailas?
X-ORIGINAL-URL:https://chetango.de
X-WR-CALDESC:Veranstaltungen für ¿Bailas?
REFRESH-INTERVAL;VALUE=DURATION:PT1H
X-Robots-Tag:noindex
X-PUBLISHED-TTL:PT1H
BEGIN:VTIMEZONE
TZID:Europe/Berlin
BEGIN:DAYLIGHT
TZOFFSETFROM:+0100
TZOFFSETTO:+0200
TZNAME:CEST
DTSTART:20240331T010000
END:DAYLIGHT
BEGIN:STANDARD
TZOFFSETFROM:+0200
TZOFFSETTO:+0100
TZNAME:CET
DTSTART:20241027T010000
END:STANDARD
END:VTIMEZONE
BEGIN:VEVENT
DTSTART;VALUE=DATE:20241207
DTEND;VALUE=DATE:20241209
DTSTAMP:20260421T130714
CREATED:20241104T143046Z
LAST-MODIFIED:20241104T152055Z
UID:3460-1733529600-1733702399@chetango.de
SUMMARY:Tango ADVENTure mit Lautaro Cancela
DESCRIPTION:Ein ganzes Wochenende lang lernen\, üben und tanzen! \nLautaro Cancela ist ein gefeierter Tänzer\, Choreograf und Tangolehrer und ist auf  den großen Bühnen in der ganzen Welt aufgetreten. Seit mehreren Jahren ist er reglmäßiges Jurymitglied der Tango-Weltmeisterschaft in Buenos Aires und bereitet Tänzer weltweit auf diesen Wettbewerb vor. Seine Liste künstlerischer Engagements in Festivals\, Schulen\, Seminaren und Shows weltweit mit über 20 Jahren Bühnenerfahrung ist endlos. Im Jahr 2005 verlieh ihm der Solo Tango Channel den Preis für die beste Choreographie (Gallo Ciego\, Madero Tango). \nPersönlich habe ich wiederholt mit Lautaro in Buenos Aires lernen und trainieren dürfen und kann nur sagen: toller Lehrer\, unglaublich guter Tänzer und zudem super entspannter und netter Typ. \n  \nAm 7. und 8. Dezember kommt er zu uns nach REGENSBURG! Eine einmalige Gelegenheit von ihm zu lernen! Besuche das 2 tägige Intensivseminar zu Tango & Vals! \nHier gehts zur Übersicht aller  Workshops mit Lautaro Cancela! (Anmeldung erforderlich!)
URL:https://chetango.de/event/tango-adventure-mit-lautaro-cancela
LOCATION:ChanDao Akademie\, Donaustaufer str. 46b\, Regensburg
CATEGORIES:Blockseminar,Kurs,Tangoweekend
ATTACH;FMTTYPE=image/png:https://chetango.de/wp-content/uploads/2024/11/Rot-und-Weiss-Umwelt-Gemeinnuetzige-und-Aktivismus-Organisation-YouTube-Video-Intro.zip-1.png
END:VEVENT
END:VCALENDAR