BEGIN:VCALENDAR
VERSION:2.0
PRODID:-//¿Bailas? - ECPv6.2.9//NONSGML v1.0//EN
CALSCALE:GREGORIAN
METHOD:PUBLISH
X-WR-CALNAME:¿Bailas?
X-ORIGINAL-URL:https://chetango.de
X-WR-CALDESC:Veranstaltungen für ¿Bailas?
REFRESH-INTERVAL;VALUE=DURATION:PT1H
X-Robots-Tag:noindex
X-PUBLISHED-TTL:PT1H
BEGIN:VTIMEZONE
TZID:Europe/Berlin
BEGIN:DAYLIGHT
TZOFFSETFROM:+0100
TZOFFSETTO:+0200
TZNAME:CEST
DTSTART:20240331T010000
END:DAYLIGHT
BEGIN:STANDARD
TZOFFSETFROM:+0200
TZOFFSETTO:+0100
TZNAME:CET
DTSTART:20241027T010000
END:STANDARD
END:VTIMEZONE
BEGIN:VEVENT
DTSTART;TZID=Europe/Berlin:20241026T200000
DTEND;TZID=Europe/Berlin:20241026T200000
DTSTAMP:20260423T124354
CREATED:20240904T190303Z
LAST-MODIFIED:20240904T190303Z
UID:3104-1729972800-1729972800@chetango.de
SUMMARY:la practica MaS - Saturday night special
DESCRIPTION:Sonderausgabe der practica MaS -Ausnahmsweise am Samstag mit DJ Aureliano! \nDie XXL-Variante aufgrund des Tangomeetings in Regensburg mit ein paar Überraschungen…. \nFreies Üben zu traditioneller Musik; natürlich mit buena onda\, Matecito\, Pizza\, Argentinischen Segen uuuuuund TANGO!!!!\nWie immer natürlich al la gorra!
URL:https://chetango.de/event/la-practica-mas-saturday-night-special
LOCATION:Pfarrzentrum St. Mang\, Andreasstraße\, Regensburg\, 93059\, Deutschland
CATEGORIES:Milonga,Practica,Tangoweekend
ATTACH;FMTTYPE=image/png:https://chetango.de/wp-content/uploads/2024/09/Kopie-von-Practica.png.png
END:VEVENT
END:VCALENDAR