BEGIN:VCALENDAR
VERSION:2.0
PRODID:-//¿Bailas? - ECPv6.2.9//NONSGML v1.0//EN
CALSCALE:GREGORIAN
METHOD:PUBLISH
X-WR-CALNAME:¿Bailas?
X-ORIGINAL-URL:https://chetango.de
X-WR-CALDESC:Veranstaltungen für ¿Bailas?
REFRESH-INTERVAL;VALUE=DURATION:PT1H
X-Robots-Tag:noindex
X-PUBLISHED-TTL:PT1H
BEGIN:VTIMEZONE
TZID:Europe/Berlin
BEGIN:DAYLIGHT
TZOFFSETFROM:+0100
TZOFFSETTO:+0200
TZNAME:CEST
DTSTART:20240331T010000
END:DAYLIGHT
BEGIN:STANDARD
TZOFFSETFROM:+0200
TZOFFSETTO:+0100
TZNAME:CET
DTSTART:20241027T010000
END:STANDARD
END:VTIMEZONE
BEGIN:VEVENT
DTSTART;TZID=Europe/Berlin:20240526T170000
DTEND;TZID=Europe/Berlin:20240526T210000
DTSTAMP:20260422T025715
CREATED:20240204T213746Z
LAST-MODIFIED:20240423T072651Z
UID:2374-1716742800-1716757200@chetango.de
SUMMARY:el Cafetín de Buenos Aires
DESCRIPTION:Dein Tango-Kaffeeklatsch am Sonntag! \n  \nAn einem Sonntag im Monat öffnet das Cafetín de Buenos Aires mit traditioneller Musik\, selbstgemachten Kuchen und Kaffee! \nLass Dein Wochenende gemütlich mit Tango ausklingen! \nNos vemos?
URL:https://chetango.de/event/el-cafetin-de-buenos-aires-7
LOCATION:ChanDao Akademie\, Donaustaufer str. 46b\, Regensburg
CATEGORIES:Milonga
ATTACH;FMTTYPE=image/png:https://chetango.de/wp-content/uploads/2023/07/elCafetinblanco-e1689860000456.png
END:VEVENT
END:VCALENDAR