BEGIN:VCALENDAR
VERSION:2.0
PRODID:-//¿Bailas? - ECPv6.2.9//NONSGML v1.0//EN
CALSCALE:GREGORIAN
METHOD:PUBLISH
X-WR-CALNAME:¿Bailas?
X-ORIGINAL-URL:https://chetango.de
X-WR-CALDESC:Veranstaltungen für ¿Bailas?
REFRESH-INTERVAL;VALUE=DURATION:PT1H
X-Robots-Tag:noindex
X-PUBLISHED-TTL:PT1H
BEGIN:VTIMEZONE
TZID:Europe/Berlin
BEGIN:DAYLIGHT
TZOFFSETFROM:+0100
TZOFFSETTO:+0200
TZNAME:CEST
DTSTART:20230326T010000
END:DAYLIGHT
BEGIN:STANDARD
TZOFFSETFROM:+0200
TZOFFSETTO:+0100
TZNAME:CET
DTSTART:20231029T010000
END:STANDARD
END:VTIMEZONE
BEGIN:VEVENT
DTSTART;TZID=Europe/Berlin:20230916T150000
DTEND;TZID=Europe/Berlin:20230916T180000
DTSTAMP:20260425T054523
CREATED:20230731T121959Z
LAST-MODIFIED:20230902T123141Z
UID:1714-1694876400-1694887200@chetango.de
SUMMARY:Chicas only! Part 2
DESCRIPTION:Chicas Only \n👠Ein Tangoworkshop NUR für followers! \n  \nWir studieren keinen speziellen Stil des tango argentino – vielmehr arbeiten wir an unserer Körperachse\, unserer Stabilität\, Eleganz in unserer Bewegung und der daraus resultierenden Freiheit auch unsere Musikalität im Tanz auszudrücken.\nJe mehr Sicherheit und Freiheit Euer Tango bekommt\, desto mehr macht ihr das zu eurem Stil! 💃🏼 \nEs geht darum bereits vielleicht Bekanntes näher zu analysieren\, Neues einzubauen und eventuell an unsere Grenzen zu gehen – mit dem Ziel für mehr “Magie” in unserem Tanz!✨✨✨ \nKursinhalte \n– gezielte Übungen für euer Zentrum \n– Tools für dynamische Balance – freies Bein vs. das Standbein eine ständige Herausforderung \n– Pivots: Technik des Vorwärts- und Rückwärtspivot \n– Adornos für spirale und lineare Bewegungen unter Berücksichtigung unterschiedlicher Orchester und deren Musikalität \n– Konzepte und Tricks im Manöver 😉 – der Frauentangotalk \nWas ihr braucht: Socken\, bequeme Kleidung\, Unterlage (Handtuch\, Yogamatte)\, eure “hohen Hacken” und was zum Trinken ;-)….. \n…. ich freu mich auf Euch!
URL:https://chetango.de/event/chicas-only-part-2
LOCATION:ChanDao Akademie\, Donaustaufer str. 46b\, Regensburg
CATEGORIES:Blockseminar,Kurs
ATTACH;FMTTYPE=image/png:https://chetango.de/wp-content/uploads/2023/05/1.png
END:VEVENT
END:VCALENDAR