BEGIN:VCALENDAR
VERSION:2.0
PRODID:-//¿Bailas? - ECPv6.2.9//NONSGML v1.0//EN
CALSCALE:GREGORIAN
METHOD:PUBLISH
X-WR-CALNAME:¿Bailas?
X-ORIGINAL-URL:https://chetango.de
X-WR-CALDESC:Veranstaltungen für ¿Bailas?
REFRESH-INTERVAL;VALUE=DURATION:PT1H
X-Robots-Tag:noindex
X-PUBLISHED-TTL:PT1H
BEGIN:VTIMEZONE
TZID:Europe/Berlin
BEGIN:DAYLIGHT
TZOFFSETFROM:+0100
TZOFFSETTO:+0200
TZNAME:CEST
DTSTART:20240331T010000
END:DAYLIGHT
BEGIN:STANDARD
TZOFFSETFROM:+0200
TZOFFSETTO:+0100
TZNAME:CET
DTSTART:20241027T010000
END:STANDARD
END:VTIMEZONE
BEGIN:VEVENT
DTSTART;TZID=Europe/Berlin:20240929T170000
DTEND;TZID=Europe/Berlin:20240929T200000
DTSTAMP:20260421T130327
CREATED:20240904T195912Z
LAST-MODIFIED:20240904T195912Z
UID:3111-1727629200-1727640000@chetango.de
SUMMARY:Chicas Only!
DESCRIPTION:👠Ein Tangoworkshop NUR für followers! \n  \nWir studieren keinen speziellen Stil des tango argentino – vielmehr arbeiten wir an unserer Körperachse\, unserer Stabilität\, Eleganz in unserer Bewegung und der daraus resultierenden Freiheit auch unsere Musikalität im Tanz auszudrücken.\nJe mehr Sicherheit und Freiheit Euer Tango bekommt\, desto mehr macht ihr das zu eurem Stil! 💃🏼 \nEs geht darum bereits vielleicht Bekanntes näher zu analysieren\, Neues einzubauen und eventuell an unsere Grenzen zu gehen – mit dem Ziel für mehr “Magie” in unserem Tanz!✨✨✨ \nThemenschwerpunkt dieses Mal: \nBoleos und Ganchos – wie die Beine fliegen lernen \n  \nAllgemeine Kursinhalte \n– gezielte Übungen für euer Zentrum \n– Tools für die dynamische Balance – freies Bein vs. das Standbein: eine ständige Herausforderung \n– Adornos unter Berücksichtigung unterschiedlicher Orchester und deren Musikalität \n– Konzepte und Tricks im Manöver 😉 – der Frauentangotalk \nWas ihr braucht: Socken\, bequeme Kleidung\, Unterlage (Handtuch\, Yogamatte)\, eure “hohen Hacken” und was zum Trinken ;-)….. \n…. ich freu mich auf Euch!
URL:https://chetango.de/event/chicas-only-3
LOCATION:ChanDao Akademie\, Donaustaufer str. 46b\, Regensburg
CATEGORIES:Kurs,Seminar
ATTACH;FMTTYPE=image/png:https://chetango.de/wp-content/uploads/2023/05/1.png
END:VEVENT
END:VCALENDAR