BEGIN:VCALENDAR
VERSION:2.0
PRODID:-//¿Bailas? - ECPv6.2.9//NONSGML v1.0//EN
CALSCALE:GREGORIAN
METHOD:PUBLISH
X-WR-CALNAME:¿Bailas?
X-ORIGINAL-URL:https://chetango.de
X-WR-CALDESC:Veranstaltungen für ¿Bailas?
REFRESH-INTERVAL;VALUE=DURATION:PT1H
X-Robots-Tag:noindex
X-PUBLISHED-TTL:PT1H
BEGIN:VTIMEZONE
TZID:Europe/Berlin
BEGIN:DAYLIGHT
TZOFFSETFROM:+0100
TZOFFSETTO:+0200
TZNAME:CEST
DTSTART:20240331T010000
END:DAYLIGHT
BEGIN:STANDARD
TZOFFSETFROM:+0200
TZOFFSETTO:+0100
TZNAME:CET
DTSTART:20241027T010000
END:STANDARD
END:VTIMEZONE
BEGIN:VEVENT
DTSTART;TZID=Europe/Berlin:20240928T170000
DTEND;TZID=Europe/Berlin:20240928T200000
DTSTAMP:20260421T130238
CREATED:20240910T133452Z
LAST-MODIFIED:20240910T133452Z
UID:3160-1727542800-1727553600@chetango.de
SUMMARY:Change Perspectives
DESCRIPTION:*Verändere deine Perspektive und lerne mehr über deine originäre Rolle im Tango!* \nDurch bewussten Wechsel der Rolle und somit des Blickwinkels im Tanzpaar erarbeitest du dir ein tieferes Verständnis deiner Funktion im Tango. \nIn diesem 3-stündigen Workshop betrachten wir gezielt Situationen des argentinischen Tangos aus verschiedenen Perspektiven und ziehen daraus wertvolle Erkenntnisse für unsere eigene Praxis. \nDer Kurs richtet sich an alle\, die ihre Tango-Kenntnisse durch mehr Verständnis der anderen Perspektive erweitern möchten – egal ob du besser folgen oder führen möchtest\, mit oder ohne Partner bist\, Mann oder Frau! \nIntensives Coaching für beide Rollen am Samstag\, 28.09.\, von 17:00 bis 20:00 Uhr
URL:https://chetango.de/event/change-perspectives
LOCATION:ChanDao Akademie\, Donaustaufer str. 46b\, Regensburg
CATEGORIES:Blockseminar,Kurs
ATTACH;FMTTYPE=image/png:https://chetango.de/wp-content/uploads/2024/09/Gold-Pressed-Rose-Illustrative-Perspective-Hoodie.png
END:VEVENT
END:VCALENDAR